data_test
data_overall
loop_
    _pd_phase_block_id
    a b c d
loop_
    _pd_block_diffractogram_id
    x w y z
data_1
_pd_block_id a
loop_
    _pd_block_diffractogram_id
    x y
loop_
    _atom_site_label
    _atom_site_fract_x
    _atom_site_fract_y
    _atom_site_fract_z
    ? ? ? ?
data_2
_pd_block_id b
loop_
    _pd_block_diffractogram_id
    z
loop_
    _atom_site_label
    _atom_site_fract_x
    _atom_site_fract_y
    _atom_site_fract_z
    ? ? ? ?
data_3
_pd_block_id c
loop_
    _atom_site_label
    _atom_site_fract_x
    _atom_site_fract_y
    _atom_site_fract_z
    ? ? ? ?
data_4
_pd_block_id d
loop_
    _atom_site_label
    _atom_site_fract_x
    _atom_site_fract_y
    _atom_site_fract_z
    ? ? ? ?
data_5
_pd_block_id x
loop_
    _pd_phase_block_id
    a b
loop_
    _refln_index_h
    _refln_index_k
    _refln_index_l
    _refln_F_squared_meas
    _refln_F_squared_calc
    ? ? ? ? ?
data_6
_pd_block_id w
loop_
    _refln_index_h
    _refln_index_k
    _refln_index_l
    _refln_F_squared_meas
    _refln_F_squared_calc
    ? ? ? ? ?
data_7
_pd_block_id y
loop_
    _pd_phase_block_id
    a
loop_
    _refln_index_h
    _refln_index_k
    _refln_index_l
    _refln_F_squared_meas
    _refln_F_squared_calc
    ? ? ? ? ?
data_8
_pd_block_id z
loop_
    _pd_phase_block_id
    c
loop_
    _refln_index_h
    _refln_index_k
    _refln_index_l
    _refln_F_squared_meas
    _refln_F_squared_calc
    ? ? ? ? ?
