# An example cif file: we wish to output only a subset of
# the following items.
#
data_some_stuff
loop_
 _atom_site_label
 _atom_site_type_symbol
 _atom_site_fract_x
 _atom_site_fract_y
 _atom_site_fract_z
 _atom_site_U_iso_or_equiv
 _atom_site_adp_type
 _atom_site_occupancy
 _atom_site_symmetry_multiplicity
 _atom_site_calc_flag
 _atom_site_refinement_flags
 _atom_site_disorder_assembly
 _atom_site_disorder_group
Ge1 Ge 0.44769(7) 0.92488(4) 0.20378(2) 0.01230(15) Uani 1 1 d . . .
Ge2 Ge 0.55025(7) 1.22809(4) 0.17280(2) 0.01193(15) Uani 1 1 d . . .
